Package: HybridMTest Version: 1.51.0 Command: /Library/Frameworks/R.framework/Resources/bin/R CMD build --keep-empty-dirs --no-resave-data HybridMTest StartedAt: 2025-02-03 17:15:14 -0500 (Mon, 03 Feb 2025) EndedAt: 2025-02-03 17:15:19 -0500 (Mon, 03 Feb 2025) EllapsedTime: 5.1 seconds RetCode: 0 Status: OK PackageFile: HybridMTest_1.51.0.tar.gz PackageFileSize: 171.8 KiB