Package: HybridExpress Version: 1.5.0 Command: chmod a+r HybridExpress -R && F:\biocbuild\bbs-3.22-bioc\R\bin\R.exe CMD build --keep-empty-dirs --no-resave-data HybridExpress StartedAt: 2025-08-14 20:50:51 -0400 (Thu, 14 Aug 2025) EndedAt: 2025-08-14 20:54:04 -0400 (Thu, 14 Aug 2025) EllapsedTime: 192.9 seconds RetCode: 0 Status: OK PackageFile: HybridExpress_1.5.0.tar.gz PackageFileSize: 2.384 MiB