Package: HubPub Version: 1.17.1 Command: chmod a+r HubPub -R && F:\biocbuild\bbs-3.22-bioc\R\bin\R.exe CMD build --keep-empty-dirs --no-resave-data HubPub StartedAt: 2025-08-14 20:50:30 -0400 (Thu, 14 Aug 2025) EndedAt: 2025-08-14 20:51:29 -0400 (Thu, 14 Aug 2025) EllapsedTime: 58.3 seconds RetCode: 0 Status: OK PackageFile: HubPub_1.17.1.tar.gz PackageFileSize: 550.2 KiB