Package: HuBMAPR Version: 1.3.1 Command: /home/biocbuild/R/R/bin/R CMD build --keep-empty-dirs --no-resave-data HuBMAPR StartedAt: 2025-09-30 00:40:18 -0000 (Tue, 30 Sep 2025) EndedAt: 2025-09-30 00:45:15 -0000 (Tue, 30 Sep 2025) EllapsedTime: 297.2 seconds RetCode: 0 Status: OK PackageFile: HuBMAPR_1.3.1.tar.gz PackageFileSize: 1.322 MiB