Package: HuBMAPR Version: 1.1.8 Command: E:\biocbuild\bbs-3.21-bioc\R\bin\R.exe CMD check --no-multiarch --install=check:HuBMAPR.install-out.txt --library=E:\biocbuild\bbs-3.21-bioc\R\library --no-vignettes --timings HuBMAPR_1.1.8.tar.gz StartedAt: 2025-02-15 02:08:53 -0500 (Sat, 15 Feb 2025) EndedAt: 2025-02-15 02:10:25 -0500 (Sat, 15 Feb 2025) EllapsedTime: 91.6 seconds RetCode: 0 Status: OK CheckDir: HuBMAPR.Rcheck Warnings: 0