Package: HuBMAPR Version: 1.1.8 Command: chmod a+r HuBMAPR -R && E:\biocbuild\bbs-3.21-bioc\R\bin\R.exe CMD build --keep-empty-dirs --no-resave-data HuBMAPR StartedAt: 2025-02-14 19:18:18 -0500 (Fri, 14 Feb 2025) EndedAt: 2025-02-14 19:18:50 -0500 (Fri, 14 Feb 2025) EllapsedTime: 31.3 seconds RetCode: 0 Status: OK PackageFile: HuBMAPR_1.1.8.tar.gz PackageFileSize: 1.287 MiB