Package: HuBMAPR Version: 1.3.0 Command: rm -rf HuBMAPR.buildbin-libdir && mkdir HuBMAPR.buildbin-libdir && /Users/biocbuild/BBS/utils/build-universal.sh HuBMAPR_1.3.0.tar.gz /Library/Frameworks/R.framework/Resources/bin/R HuBMAPR.buildbin-libdir StartedAt: 2025-04-28 00:40:40 -0400 (Mon, 28 Apr 2025) EndedAt: 2025-04-28 00:40:51 -0400 (Mon, 28 Apr 2025) EllapsedTime: 10.5 seconds RetCode: 0 Status: OK PackageFile: HuBMAPR_1.3.0.tgz PackageFileSize: 1.413 MiB