Package: HuBMAPR Version: 1.1.7 Command: /home/biocbuild/R/R/bin/R CMD INSTALL HuBMAPR StartedAt: 2025-01-29 19:36:18 -0000 (Wed, 29 Jan 2025) EndedAt: 2025-01-29 19:36:32 -0000 (Wed, 29 Jan 2025) EllapsedTime: 14.2 seconds RetCode: 0 Status: OK