Package: HoloFoodR Version: 1.3.1 Command: /home/biocbuild/R/R/bin/R CMD build --keep-empty-dirs --no-resave-data HoloFoodR StartedAt: 2025-10-14 01:00:37 -0000 (Tue, 14 Oct 2025) EndedAt: 2025-10-14 01:03:56 -0000 (Tue, 14 Oct 2025) EllapsedTime: 199.1 seconds RetCode: 0 Status: OK PackageFile: HoloFoodR_1.3.1.tar.gz PackageFileSize: 3.136 MiB