Package: HoloFoodR Version: 1.1.0 Command: /Library/Frameworks/R.framework/Resources/bin/R CMD check --install=check:HoloFoodR.install-out.txt --library=/Library/Frameworks/R.framework/Resources/library --no-vignettes --timings HoloFoodR_1.1.0.tar.gz StartedAt: 2025-02-16 19:35:56 -0500 (Sun, 16 Feb 2025) EndedAt: 2025-02-16 19:38:40 -0500 (Sun, 16 Feb 2025) EllapsedTime: 164.1 seconds RetCode: 0 Status: OK CheckDir: HoloFoodR.Rcheck Warnings: 0