Package: HilbertVisGUI Version: 1.67.1 Command: /home/biocbuild/R/R/bin/R CMD INSTALL HilbertVisGUI StartedAt: 2025-10-16 21:09:57 -0000 (Thu, 16 Oct 2025) EndedAt: 2025-10-16 21:10:39 -0000 (Thu, 16 Oct 2025) EllapsedTime: 42.5 seconds RetCode: 0 Status: OK