Package: HilbertVisGUI Version: 1.67.1 Command: /home/biocbuild/R/R/bin/R CMD build --keep-empty-dirs --no-resave-data HilbertVisGUI StartedAt: 2025-10-17 01:55:50 -0000 (Fri, 17 Oct 2025) EndedAt: 2025-10-17 01:56:22 -0000 (Fri, 17 Oct 2025) EllapsedTime: 32.0 seconds RetCode: 0 Status: OK PackageFile: HilbertVisGUI_1.67.1.tar.gz PackageFileSize: 142.9 KiB