Package: HilbertVis Version: 1.67.2 Maintainer: Simon Anders MaintainerEmail: sanders at fs.tum.de git_url: https://git.bioconductor.org/packages/HilbertVis git_branch: devel git_last_commit: 6f5dca6 git_last_commit_date: 2025-05-08 02:28:36 -0400 (Thu, 08 May 2025)