Package: HicAggR Version: 1.5.1 Command: /home/biocbuild/bbs-3.22-bioc/R/bin/R CMD INSTALL HicAggR StartedAt: 2025-10-03 15:28:42 -0400 (Fri, 03 Oct 2025) EndedAt: 2025-10-03 15:29:10 -0400 (Fri, 03 Oct 2025) EllapsedTime: 27.9 seconds RetCode: 0 Status: OK