Package: HiLDA Version: 1.23.0 Command: rm -rf HiLDA.buildbin-libdir && mkdir HiLDA.buildbin-libdir && F:\biocbuild\bbs-3.22-bioc\R\bin\R.exe CMD INSTALL --build --library=HiLDA.buildbin-libdir HiLDA_1.23.0.tar.gz StartedAt: 2025-08-15 10:28:28 -0400 (Fri, 15 Aug 2025) EndedAt: 2025-08-15 10:29:05 -0400 (Fri, 15 Aug 2025) EllapsedTime: 37.2 seconds RetCode: 0 Status: OK PackageFile: HiLDA_1.23.0.zip PackageFileSize: 2.867 MiB