Package: HiLDA Version: 1.23.0 Maintainer: Zhi Yang MaintainerEmail: zyang895 at gmail.com git_url: https://git.bioconductor.org/packages/HiLDA git_branch: devel git_last_commit: 3f1663e git_last_commit_date: 2025-04-15 11:48:10 -0400 (Tue, 15 Apr 2025)