Package: HiCool Version: 1.11.0 Command: rm -rf HiCool.buildbin-libdir && mkdir HiCool.buildbin-libdir && /Users/biocbuild/BBS/utils/build-universal.sh HiCool_1.11.0.tar.gz /Library/Frameworks/R.framework/Resources/bin/R HiCool.buildbin-libdir StartedAt: 2025-11-18 00:37:04 -0500 (Tue, 18 Nov 2025) EndedAt: 2025-11-18 00:37:16 -0500 (Tue, 18 Nov 2025) EllapsedTime: 12.3 seconds RetCode: 0 Status: OK PackageFile: HiCool_1.11.0.tgz PackageFileSize: 727 KiB