Package: HiContacts Version: 1.9.0 Command: E:\biocbuild\bbs-3.21-bioc\R\bin\R.exe CMD INSTALL HiContacts StartedAt: 2025-02-03 17:00:11 -0500 (Mon, 03 Feb 2025) EndedAt: 2025-02-03 17:00:53 -0500 (Mon, 03 Feb 2025) EllapsedTime: 41.4 seconds RetCode: 0 Status: OK