Package: HiContacts Version: 1.9.0 Command: /home/biocbuild/bbs-3.21-bioc/R/bin/R CMD check --install=check:HiContacts.install-out.txt --library=/home/biocbuild/bbs-3.21-bioc/R/site-library --timings HiContacts_1.9.0.tar.gz StartedAt: 2025-02-03 23:15:31 -0500 (Mon, 03 Feb 2025) EndedAt: 2025-02-03 23:28:56 -0500 (Mon, 03 Feb 2025) EllapsedTime: 805.1 seconds RetCode: 0 Status: OK CheckDir: HiContacts.Rcheck Warnings: 0