Package: HiContacts Version: 1.9.0 Command: rm -rf HiContacts.buildbin-libdir && mkdir HiContacts.buildbin-libdir && /Users/biocbuild/BBS/utils/build-universal.sh HiContacts_1.9.0.tar.gz /Library/Frameworks/R.framework/Resources/bin/R HiContacts.buildbin-libdir StartedAt: 2025-02-03 22:53:13 -0500 (Mon, 03 Feb 2025) EndedAt: 2025-02-03 22:53:27 -0500 (Mon, 03 Feb 2025) EllapsedTime: 13.3 seconds RetCode: 0 Status: OK PackageFile: HiContacts_1.9.0.tgz PackageFileSize: 5.533 MiB