Package: HiCcompare Version: 1.29.0 Command: /home/biocbuild/bbs-3.21-bioc/R/bin/R CMD INSTALL HiCcompare StartedAt: 2025-02-03 15:39:24 -0500 (Mon, 03 Feb 2025) EndedAt: 2025-02-03 15:39:59 -0500 (Mon, 03 Feb 2025) EllapsedTime: 34.4 seconds RetCode: 0 Status: OK