Package: HiCcompare Version: 1.29.0 Command: /Library/Frameworks/R.framework/Resources/bin/R CMD check --install=check:HiCcompare.install-out.txt --library=/Library/Frameworks/R.framework/Resources/library --no-vignettes --timings HiCcompare_1.29.0.tar.gz StartedAt: 2025-02-03 21:02:43 -0500 (Mon, 03 Feb 2025) EndedAt: 2025-02-03 21:06:27 -0500 (Mon, 03 Feb 2025) EllapsedTime: 224.3 seconds RetCode: 0 Status: OK CheckDir: HiCcompare.Rcheck Warnings: 0