Package: HiCcompare Version: 1.29.0 Command: /Library/Frameworks/R.framework/Resources/bin/R CMD build --keep-empty-dirs --no-resave-data HiCcompare StartedAt: 2025-02-03 17:12:49 -0500 (Mon, 03 Feb 2025) EndedAt: 2025-02-03 17:13:14 -0500 (Mon, 03 Feb 2025) EllapsedTime: 24.2 seconds RetCode: 0 Status: OK PackageFile: HiCcompare_1.29.0.tar.gz PackageFileSize: 3.681 MiB