Package: HiCaptuRe Version: 1.1.0 Command: /Library/Frameworks/R.framework/Resources/bin/R CMD INSTALL HiCaptuRe StartedAt: 2025-11-16 20:50:55 -0500 (Sun, 16 Nov 2025) EndedAt: 2025-11-16 20:52:08 -0500 (Sun, 16 Nov 2025) EllapsedTime: 72.3 seconds RetCode: 0 Status: OK