Package: HiCaptuRe Version: 1.1.0 Command: /Library/Frameworks/R.framework/Resources/bin/R CMD build --keep-empty-dirs --no-resave-data HiCaptuRe StartedAt: 2025-11-16 22:19:22 -0500 (Sun, 16 Nov 2025) EndedAt: 2025-11-16 22:21:42 -0500 (Sun, 16 Nov 2025) EllapsedTime: 139.9 seconds RetCode: 0 Status: OK PackageFile: HiCaptuRe_1.1.0.tar.gz PackageFileSize: 1.906 MiB