Package: HiCaptuRe Version: 0.99.15 Command: /Library/Frameworks/R.framework/Resources/bin/R CMD INSTALL HiCaptuRe StartedAt: 2025-10-24 15:29:06 -0400 (Fri, 24 Oct 2025) EndedAt: 2025-10-24 15:29:29 -0400 (Fri, 24 Oct 2025) EllapsedTime: 22.9 seconds RetCode: 0 Status: OK