Package: HiCaptuRe Version: 0.99.15 Command: /Library/Frameworks/R.framework/Resources/bin/R CMD build --keep-empty-dirs --no-resave-data HiCaptuRe StartedAt: 2025-10-24 16:42:52 -0400 (Fri, 24 Oct 2025) EndedAt: 2025-10-24 16:43:51 -0400 (Fri, 24 Oct 2025) EllapsedTime: 59.7 seconds RetCode: 0 Status: OK PackageFile: HiCaptuRe_0.99.15.tar.gz PackageFileSize: 1.906 MiB