Package: HiCPotts Version: 0.99.6 Command: /home/biocbuild/bbs-3.22-bioc/R/bin/R CMD INSTALL HiCPotts StartedAt: 2025-09-30 15:28:42 -0400 (Tue, 30 Sep 2025) EndedAt: 2025-09-30 15:29:40 -0400 (Tue, 30 Sep 2025) EllapsedTime: 57.8 seconds RetCode: 0 Status: OK