Package: HiCPotts Version: 1.1.0 Command: /home/biocbuild/bbs-3.23-bioc/R/bin/R CMD INSTALL HiCPotts StartedAt: 2025-11-18 16:21:29 -0500 (Tue, 18 Nov 2025) EndedAt: 2025-11-18 16:22:27 -0500 (Tue, 18 Nov 2025) EllapsedTime: 57.6 seconds RetCode: 0 Status: OK