Package: HiCPotts Version: 1.1.0 Command: /home/biocbuild/bbs-3.23-bioc/R/bin/R CMD build --keep-empty-dirs --no-resave-data HiCPotts StartedAt: 2025-11-18 18:56:53 -0500 (Tue, 18 Nov 2025) EndedAt: 2025-11-18 18:58:16 -0500 (Tue, 18 Nov 2025) EllapsedTime: 83.2 seconds RetCode: 0 Status: OK PackageFile: HiCPotts_1.1.0.tar.gz PackageFileSize: 1.719 MiB