Package: HiCPotts Version: 1.1.0 Command: /Library/Frameworks/R.framework/Resources/bin/R CMD INSTALL HiCPotts StartedAt: 2025-11-20 15:35:42 -0500 (Thu, 20 Nov 2025) EndedAt: 2025-11-20 15:36:49 -0500 (Thu, 20 Nov 2025) EllapsedTime: 66.6 seconds RetCode: 0 Status: OK