Package: HiCPotts Version: 1.1.0 Command: /Library/Frameworks/R.framework/Resources/bin/R CMD build --keep-empty-dirs --no-resave-data HiCPotts StartedAt: 2025-11-20 17:20:30 -0500 (Thu, 20 Nov 2025) EndedAt: 2025-11-20 17:21:54 -0500 (Thu, 20 Nov 2025) EllapsedTime: 83.4 seconds RetCode: 0 Status: OK PackageFile: HiCPotts_1.1.0.tar.gz PackageFileSize: 1.719 MiB