Package: HiCPotts Version: 0.99.6 Command: /Library/Frameworks/R.framework/Resources/bin/R CMD INSTALL HiCPotts StartedAt: 2025-10-28 15:17:23 -0400 (Tue, 28 Oct 2025) EndedAt: 2025-10-28 15:17:43 -0400 (Tue, 28 Oct 2025) EllapsedTime: 19.3 seconds RetCode: 0 Status: OK