Package: HiCParser Version: 1.1.1 Command: /Library/Frameworks/R.framework/Resources/bin/R CMD INSTALL HiCParser StartedAt: 2025-10-13 15:26:26 -0400 (Mon, 13 Oct 2025) EndedAt: 2025-10-13 15:27:05 -0400 (Mon, 13 Oct 2025) EllapsedTime: 39.5 seconds RetCode: 0 Status: OK