Package: HiCParser Version: 1.1.1 Command: /Library/Frameworks/R.framework/Resources/bin/R CMD build --keep-empty-dirs --no-resave-data HiCParser StartedAt: 2025-10-12 17:28:08 -0400 (Sun, 12 Oct 2025) EndedAt: 2025-10-12 17:29:31 -0400 (Sun, 12 Oct 2025) EllapsedTime: 83.1 seconds RetCode: 0 Status: OK PackageFile: HiCParser_1.1.1.tar.gz PackageFileSize: 324.3 KiB