Package: HiCParser Version: 1.1.1 Command: rm -rf HiCParser.buildbin-libdir && mkdir HiCParser.buildbin-libdir && /Users/biocbuild/BBS/utils/build-universal.sh HiCParser_1.1.1.tar.gz /Library/Frameworks/R.framework/Resources/bin/R HiCParser.buildbin-libdir StartedAt: 2025-10-13 02:37:22 -0400 (Mon, 13 Oct 2025) EndedAt: 2025-10-13 02:38:05 -0400 (Mon, 13 Oct 2025) EllapsedTime: 42.9 seconds RetCode: 0 Status: OK PackageFile: HiCParser_1.1.1.tgz PackageFileSize: 401.1 KiB