Package: HiCParser Version: 1.1.1 Command: /Library/Frameworks/R.framework/Resources/bin/R CMD INSTALL HiCParser StartedAt: 2025-10-06 15:14:39 -0400 (Mon, 06 Oct 2025) EndedAt: 2025-10-06 15:14:50 -0400 (Mon, 06 Oct 2025) EllapsedTime: 11.1 seconds RetCode: 0 Status: OK