Package: HiCParser Version: 1.1.1 Command: /Library/Frameworks/R.framework/Resources/bin/R CMD build --keep-empty-dirs --no-resave-data HiCParser StartedAt: 2025-10-06 16:42:24 -0400 (Mon, 06 Oct 2025) EndedAt: 2025-10-06 16:42:44 -0400 (Mon, 06 Oct 2025) EllapsedTime: 20.2 seconds RetCode: 0 Status: OK PackageFile: HiCParser_1.1.1.tar.gz PackageFileSize: 324.4 KiB