Package: HiCExperiment Version: 1.9.2 Command: /home/biocbuild/bbs-3.22-bioc/R/bin/R CMD INSTALL HiCExperiment StartedAt: 2025-09-30 15:24:55 -0400 (Tue, 30 Sep 2025) EndedAt: 2025-09-30 15:25:24 -0400 (Tue, 30 Sep 2025) EllapsedTime: 28.6 seconds RetCode: 0 Status: OK