Package: HiCExperiment Version: 1.9.2 Command: /home/biocbuild/bbs-3.22-bioc/R/bin/R CMD build --keep-empty-dirs --no-resave-data --md5 HiCExperiment StartedAt: 2025-10-01 18:27:38 -0400 (Wed, 01 Oct 2025) EndedAt: 2025-10-01 18:30:21 -0400 (Wed, 01 Oct 2025) EllapsedTime: 162.1 seconds RetCode: 0 Status: OK PackageFile: HiCExperiment_1.9.2.tar.gz PackageFileSize: 1014 KiB