Package: HiCExperiment Version: 1.7.0 Command: /home/biocbuild/bbs-3.21-bioc/R/bin/R CMD build --keep-empty-dirs --no-resave-data HiCExperiment StartedAt: 2025-02-14 17:29:58 -0500 (Fri, 14 Feb 2025) EndedAt: 2025-02-14 17:32:59 -0500 (Fri, 14 Feb 2025) EllapsedTime: 181.2 seconds RetCode: 0 Status: OK PackageFile: HiCExperiment_1.7.0.tar.gz PackageFileSize: 1011 KiB