Package: HiCDOC Version: 1.9.2 Command: /home/biocbuild/R/R/bin/R CMD INSTALL HiCDOC StartedAt: 2025-01-29 19:46:56 -0000 (Wed, 29 Jan 2025) EndedAt: 2025-01-29 19:47:54 -0000 (Wed, 29 Jan 2025) EllapsedTime: 57.3 seconds RetCode: 0 Status: OK