Package: HiCDOC Version: 1.9.2 Command: /Library/Frameworks/R.framework/Resources/bin/R CMD build --keep-empty-dirs --no-resave-data HiCDOC StartedAt: 2025-02-16 16:29:13 -0500 (Sun, 16 Feb 2025) EndedAt: 2025-02-16 16:30:22 -0500 (Sun, 16 Feb 2025) EllapsedTime: 68.7 seconds RetCode: 0 Status: OK PackageFile: HiCDOC_1.9.2.tar.gz PackageFileSize: 3.556 MiB