Package: HiCDCPlus Version: 1.17.0 Command: /home/biocbuild/R/R/bin/R CMD INSTALL HiCDCPlus StartedAt: 2025-10-23 21:21:32 -0000 (Thu, 23 Oct 2025) EndedAt: 2025-10-23 21:22:28 -0000 (Thu, 23 Oct 2025) EllapsedTime: 56.1 seconds RetCode: 0 Status: OK