Package: HiCDCPlus Version: 1.17.0 Command: /home/biocbuild/R/R/bin/R CMD build --keep-empty-dirs --no-resave-data HiCDCPlus StartedAt: 2025-10-21 00:28:03 -0000 (Tue, 21 Oct 2025) EndedAt: 2025-10-21 00:30:25 -0000 (Tue, 21 Oct 2025) EllapsedTime: 142.1 seconds RetCode: 0 Status: OK PackageFile: HiCDCPlus_1.17.0.tar.gz PackageFileSize: 1.21 MiB