Package: HiCBricks Version: 1.25.0 Command: /home/biocbuild/bbs-3.21-bioc/R/bin/R CMD check --install=check:HiCBricks.install-out.txt --library=/home/biocbuild/bbs-3.21-bioc/R/site-library --timings HiCBricks_1.25.0.tar.gz StartedAt: 2025-02-03 23:13:15 -0500 (Mon, 03 Feb 2025) EndedAt: 2025-02-03 23:16:33 -0500 (Mon, 03 Feb 2025) EllapsedTime: 198.5 seconds RetCode: 0 Status: OK CheckDir: HiCBricks.Rcheck Warnings: 0