Package: HiCBricks Version: 1.25.0 Command: /home/biocbuild/bbs-3.21-bioc/R/bin/R CMD build --keep-empty-dirs --no-resave-data HiCBricks StartedAt: 2025-02-03 17:46:15 -0500 (Mon, 03 Feb 2025) EndedAt: 2025-02-03 17:47:22 -0500 (Mon, 03 Feb 2025) EllapsedTime: 67.1 seconds RetCode: 0 Status: OK PackageFile: HiCBricks_1.25.0.tar.gz PackageFileSize: 5.133 MiB