Package: HiCBricks Version: 1.27.0 Command: /Library/Frameworks/R.framework/Resources/bin/R CMD INSTALL HiCBricks StartedAt: 2025-05-07 15:16:00 -0400 (Wed, 07 May 2025) EndedAt: 2025-05-07 15:16:24 -0400 (Wed, 07 May 2025) EllapsedTime: 24.2 seconds RetCode: 0 Status: OK