Package: HiCBricks Version: 1.27.0 Command: /Library/Frameworks/R.framework/Resources/bin/R CMD check --install=check:HiCBricks.install-out.txt --library=/Library/Frameworks/R.framework/Resources/library --no-vignettes --timings HiCBricks_1.27.0.tar.gz StartedAt: 2025-05-08 21:10:30 -0400 (Thu, 08 May 2025) EndedAt: 2025-05-08 21:13:22 -0400 (Thu, 08 May 2025) EllapsedTime: 171.8 seconds RetCode: 0 Status: OK CheckDir: HiCBricks.Rcheck Warnings: 0