Package: HiCBricks Version: 1.27.0 Command: rm -rf HiCBricks.buildbin-libdir && mkdir HiCBricks.buildbin-libdir && /Users/biocbuild/BBS/utils/build-universal.sh HiCBricks_1.27.0.tar.gz /Library/Frameworks/R.framework/Resources/bin/R HiCBricks.buildbin-libdir StartedAt: 2025-05-09 00:48:25 -0400 (Fri, 09 May 2025) EndedAt: 2025-05-09 00:48:54 -0400 (Fri, 09 May 2025) EllapsedTime: 28.9 seconds RetCode: 0 Status: OK PackageFile: HiCBricks_1.27.0.tgz PackageFileSize: 9.093 MiB